BEGIN:VCALENDAR
VERSION:2.0
PRODID:-//Anthony Smithson - ECPv6.15.20//NONSGML v1.0//EN
CALSCALE:GREGORIAN
METHOD:PUBLISH
X-WR-CALNAME:Anthony Smithson
X-ORIGINAL-URL:https://asmithson.com
X-WR-CALDESC:Events for Anthony Smithson
REFRESH-INTERVAL;VALUE=DURATION:PT1H
X-Robots-Tag:noindex
X-PUBLISHED-TTL:PT1H
BEGIN:VTIMEZONE
TZID:America/New_York
BEGIN:DAYLIGHT
TZOFFSETFROM:-0500
TZOFFSETTO:-0400
TZNAME:EDT
DTSTART:20170312T070000
END:DAYLIGHT
BEGIN:STANDARD
TZOFFSETFROM:-0400
TZOFFSETTO:-0500
TZNAME:EST
DTSTART:20171105T060000
END:STANDARD
BEGIN:DAYLIGHT
TZOFFSETFROM:-0500
TZOFFSETTO:-0400
TZNAME:EDT
DTSTART:20180311T070000
END:DAYLIGHT
BEGIN:STANDARD
TZOFFSETFROM:-0400
TZOFFSETTO:-0500
TZNAME:EST
DTSTART:20181104T060000
END:STANDARD
BEGIN:DAYLIGHT
TZOFFSETFROM:-0500
TZOFFSETTO:-0400
TZNAME:EDT
DTSTART:20190310T070000
END:DAYLIGHT
BEGIN:STANDARD
TZOFFSETFROM:-0400
TZOFFSETTO:-0500
TZNAME:EST
DTSTART:20191103T060000
END:STANDARD
END:VTIMEZONE
BEGIN:VEVENT
DTSTART;TZID=America/New_York:20181122T130000
DTEND;TZID=America/New_York:20181122T150000
DTSTAMP:20260421T130148
CREATED:20181120T184801Z
LAST-MODIFIED:20181120T184801Z
UID:550-1542891600-1542898800@asmithson.com
SUMMARY:Annual Community Thanksgiving Dinner
DESCRIPTION:
URL:https://asmithson.com/event/annual-community-thanksgiving-dinner/
LOCATION:Hudson’s on the Docks
END:VEVENT
BEGIN:VEVENT
DTSTART;TZID=America/New_York:20180928T173000
DTEND;TZID=America/New_York:20180928T203000
DTSTAMP:20260421T130148
CREATED:20181008T201959Z
LAST-MODIFIED:20181008T202059Z
UID:546-1538155800-1538166600@asmithson.com
SUMMARY:Hudson’s on the Docks - Final Regular Friday for 2018
DESCRIPTION:
URL:https://asmithson.com/event/hudsons-on-the-docks-23/
END:VEVENT
BEGIN:VEVENT
DTSTART;TZID=America/New_York:20180921T173000
DTEND;TZID=America/New_York:20180921T203000
DTSTAMP:20260421T130148
CREATED:20181008T201933Z
LAST-MODIFIED:20181008T201933Z
UID:544-1537551000-1537561800@asmithson.com
SUMMARY:Hudson’s on the Docks
DESCRIPTION:
URL:https://asmithson.com/event/hudsons-on-the-docks-22/
END:VEVENT
BEGIN:VEVENT
DTSTART;TZID=America/New_York:20180914T173000
DTEND;TZID=America/New_York:20180914T203000
DTSTAMP:20260421T130148
CREATED:20181008T201706Z
LAST-MODIFIED:20181008T201837Z
UID:541-1536946200-1536957000@asmithson.com
SUMMARY:Hudson’s on the Docks - CANCELLED (Hurricane)
DESCRIPTION:
URL:https://asmithson.com/event/hudsons-on-the-docks-21/
END:VEVENT
BEGIN:VEVENT
DTSTART;TZID=America/New_York:20180907T173000
DTEND;TZID=America/New_York:20180907T203000
DTSTAMP:20260421T130148
CREATED:20181008T201632Z
LAST-MODIFIED:20181008T201632Z
UID:539-1536341400-1536352200@asmithson.com
SUMMARY:Hudson’s on the Docks
DESCRIPTION:
URL:https://asmithson.com/event/hudsons-on-the-docks-20/
END:VEVENT
BEGIN:VEVENT
DTSTART;TZID=America/New_York:20180831T173000
DTEND;TZID=America/New_York:20180831T203000
DTSTAMP:20260421T130148
CREATED:20181008T201605Z
LAST-MODIFIED:20181008T201605Z
UID:537-1535736600-1535747400@asmithson.com
SUMMARY:Hudson’s on the Docks
DESCRIPTION:
URL:https://asmithson.com/event/hudsons-on-the-docks-19/
END:VEVENT
BEGIN:VEVENT
DTSTART;TZID=America/New_York:20180824T173000
DTEND;TZID=America/New_York:20180824T203000
DTSTAMP:20260421T130148
CREATED:20181008T201525Z
LAST-MODIFIED:20181008T201525Z
UID:535-1535131800-1535142600@asmithson.com
SUMMARY:Hudson’s on the Docks
DESCRIPTION:
URL:https://asmithson.com/event/hudsons-on-the-docks-18/
END:VEVENT
BEGIN:VEVENT
DTSTART;TZID=America/New_York:20180818T173000
DTEND;TZID=America/New_York:20180818T213000
DTSTAMP:20260421T130148
CREATED:20181008T201457Z
LAST-MODIFIED:20181008T201457Z
UID:533-1534613400-1534627800@asmithson.com
SUMMARY:San Miguel's at Shelter Cove
DESCRIPTION:
URL:https://asmithson.com/event/san-miguels-at-shelter-cove-2/
END:VEVENT
BEGIN:VEVENT
DTSTART;TZID=America/New_York:20180817T173000
DTEND;TZID=America/New_York:20180817T203000
DTSTAMP:20260421T130148
CREATED:20181008T201409Z
LAST-MODIFIED:20181008T201409Z
UID:531-1534527000-1534537800@asmithson.com
SUMMARY:Hudson’s on the Docks
DESCRIPTION:
URL:https://asmithson.com/event/hudsons-on-the-docks-17/
END:VEVENT
BEGIN:VEVENT
DTSTART;TZID=America/New_York:20180810T173000
DTEND;TZID=America/New_York:20180810T203000
DTSTAMP:20260421T130148
CREATED:20181008T201338Z
LAST-MODIFIED:20181008T201338Z
UID:529-1533922200-1533933000@asmithson.com
SUMMARY:Hudson’s on the Docks
DESCRIPTION:
URL:https://asmithson.com/event/hudsons-on-the-docks-16/
END:VEVENT
BEGIN:VEVENT
DTSTART;TZID=America/New_York:20180803T173000
DTEND;TZID=America/New_York:20180803T203000
DTSTAMP:20260421T130148
CREATED:20181008T201240Z
LAST-MODIFIED:20181008T201240Z
UID:527-1533317400-1533328200@asmithson.com
SUMMARY:Hudson’s on the Docks
DESCRIPTION:
URL:https://asmithson.com/event/hudsons-on-the-docks-15/
END:VEVENT
BEGIN:VEVENT
DTSTART;TZID=America/New_York:20180727T173000
DTEND;TZID=America/New_York:20180727T203000
DTSTAMP:20260421T130148
CREATED:20180521T165507Z
LAST-MODIFIED:20180521T165507Z
UID:522-1532712600-1532723400@asmithson.com
SUMMARY:Hudson's on the Docks
DESCRIPTION:
URL:https://asmithson.com/event/hudsons-on-the-docks-14/
ATTACH;FMTTYPE=image/jpeg:https://asmithson.com/wp-content/uploads/2017/04/birdseye.jpg
END:VEVENT
BEGIN:VEVENT
DTSTART;TZID=America/New_York:20180720T173000
DTEND;TZID=America/New_York:20180720T203000
DTSTAMP:20260421T130148
CREATED:20180521T165120Z
LAST-MODIFIED:20180521T165120Z
UID:520-1532107800-1532118600@asmithson.com
SUMMARY:Hudson's on the Docks
DESCRIPTION:
URL:https://asmithson.com/event/hudsons-on-the-docks-13/
ATTACH;FMTTYPE=image/jpeg:https://asmithson.com/wp-content/uploads/2017/04/mixer.jpg
END:VEVENT
BEGIN:VEVENT
DTSTART;TZID=America/New_York:20180713T173000
DTEND;TZID=America/New_York:20180713T203000
DTSTAMP:20260421T130148
CREATED:20180521T164934Z
LAST-MODIFIED:20180521T164934Z
UID:518-1531503000-1531513800@asmithson.com
SUMMARY:Hudson's on the Docks
DESCRIPTION:
URL:https://asmithson.com/event/hudsons-on-the-docks-12/
ATTACH;FMTTYPE=image/jpeg:https://asmithson.com/wp-content/uploads/2017/04/2-card-back.jpg
END:VEVENT
BEGIN:VEVENT
DTSTART;TZID=America/New_York:20180706T173000
DTEND;TZID=America/New_York:20180706T203000
DTSTAMP:20260421T130148
CREATED:20180521T164736Z
LAST-MODIFIED:20180521T164736Z
UID:516-1530898200-1530909000@asmithson.com
SUMMARY:Hudson's on the Docks
DESCRIPTION:
URL:https://asmithson.com/event/hudsons-on-the-docks-11/
ATTACH;FMTTYPE=image/jpeg:https://asmithson.com/wp-content/uploads/2017/04/Tony-paint-fire.jpg
END:VEVENT
BEGIN:VEVENT
DTSTART;TZID=America/New_York:20180629T173000
DTEND;TZID=America/New_York:20180629T203000
DTSTAMP:20260421T130148
CREATED:20180517T132852Z
LAST-MODIFIED:20180517T132852Z
UID:510-1530293400-1530304200@asmithson.com
SUMMARY:Hudson's on the Docks
DESCRIPTION:
URL:https://asmithson.com/event/hudsons-on-the-docks-10/
ATTACH;FMTTYPE=image/jpeg:https://asmithson.com/wp-content/uploads/2018/05/Hudsons-1.jpg
END:VEVENT
BEGIN:VEVENT
DTSTART;TZID=America/New_York:20180623T173000
DTEND;TZID=America/New_York:20180623T213000
DTSTAMP:20260421T130148
CREATED:20180521T163921Z
LAST-MODIFIED:20180521T163921Z
UID:514-1529775000-1529789400@asmithson.com
SUMMARY:San Miguel's at Shelter Cove Marina
DESCRIPTION:
URL:https://asmithson.com/event/san-miguels-at-shelter-cove-marina/
END:VEVENT
BEGIN:VEVENT
DTSTART;TZID=America/New_York:20180623T173000
DTEND;TZID=America/New_York:20180623T213000
DTSTAMP:20260421T130148
CREATED:20180517T214522Z
LAST-MODIFIED:20180517T214522Z
UID:512-1529775000-1529789400@asmithson.com
SUMMARY:San Miguel's at Shelter Cove
DESCRIPTION:
URL:https://asmithson.com/event/san-miguels-at-shelter-cove/
END:VEVENT
BEGIN:VEVENT
DTSTART;TZID=America/New_York:20180622T173000
DTEND;TZID=America/New_York:20180622T203000
DTSTAMP:20260421T130148
CREATED:20180517T132803Z
LAST-MODIFIED:20180517T132803Z
UID:508-1529688600-1529699400@asmithson.com
SUMMARY:Hudson's on the Docks
DESCRIPTION:
URL:https://asmithson.com/event/hudsons-on-the-docks-9/
ATTACH;FMTTYPE=image/jpeg:https://asmithson.com/wp-content/uploads/2018/05/Hudsons-1.jpg
END:VEVENT
BEGIN:VEVENT
DTSTART;TZID=America/New_York:20180615T173000
DTEND;TZID=America/New_York:20180615T203000
DTSTAMP:20260421T130148
CREATED:20180517T132709Z
LAST-MODIFIED:20180517T132709Z
UID:506-1529083800-1529094600@asmithson.com
SUMMARY:Hudson's on the Docks
DESCRIPTION:
URL:https://asmithson.com/event/hudsons-on-the-docks-8/
ATTACH;FMTTYPE=image/jpeg:https://asmithson.com/wp-content/uploads/2018/05/Hudsons-1.jpg
END:VEVENT
BEGIN:VEVENT
DTSTART;TZID=America/New_York:20180608T173000
DTEND;TZID=America/New_York:20180608T203000
DTSTAMP:20260421T130148
CREATED:20180517T132619Z
LAST-MODIFIED:20180517T132619Z
UID:504-1528479000-1528489800@asmithson.com
SUMMARY:Hudson's on the Docks
DESCRIPTION:
URL:https://asmithson.com/event/hudsons-on-the-docks-7/
ATTACH;FMTTYPE=image/jpeg:https://asmithson.com/wp-content/uploads/2018/05/Hudsons-1.jpg
END:VEVENT
BEGIN:VEVENT
DTSTART;TZID=America/New_York:20180601T173000
DTEND;TZID=America/New_York:20180601T203000
DTSTAMP:20260421T130148
CREATED:20180517T132528Z
LAST-MODIFIED:20180517T132528Z
UID:502-1527874200-1527885000@asmithson.com
SUMMARY:Hudson's on the Docks
DESCRIPTION:
URL:https://asmithson.com/event/hudsons-on-the-docks-6/
ATTACH;FMTTYPE=image/jpeg:https://asmithson.com/wp-content/uploads/2018/05/Hudsons-1.jpg
END:VEVENT
BEGIN:VEVENT
DTSTART;TZID=America/New_York:20180525T173000
DTEND;TZID=America/New_York:20180525T203000
DTSTAMP:20260421T130148
CREATED:20180517T132324Z
LAST-MODIFIED:20180517T132324Z
UID:499-1527269400-1527280200@asmithson.com
SUMMARY:Hudson's on the Docks
DESCRIPTION:
URL:https://asmithson.com/event/hudsons-on-the-docks-5/
ATTACH;FMTTYPE=image/jpeg:https://asmithson.com/wp-content/uploads/2018/05/Hudsons-1.jpg
END:VEVENT
BEGIN:VEVENT
DTSTART;TZID=America/New_York:20180518T173000
DTEND;TZID=America/New_York:20180518T203000
DTSTAMP:20260421T130148
CREATED:20180517T132132Z
LAST-MODIFIED:20180517T132132Z
UID:497-1526664600-1526675400@asmithson.com
SUMMARY:Hudson's on the Docks
DESCRIPTION:
URL:https://asmithson.com/event/hudsons-on-the-docks-4/
END:VEVENT
BEGIN:VEVENT
DTSTART;TZID=America/New_York:20180427T173000
DTEND;TZID=America/New_York:20180427T203000
DTSTAMP:20260421T130148
CREATED:20180424T144826Z
LAST-MODIFIED:20180424T144826Z
UID:488-1524850200-1524861000@asmithson.com
SUMMARY:Hudson's on the Docks
DESCRIPTION:
URL:https://asmithson.com/event/hudsons-on-the-docks-3/
END:VEVENT
BEGIN:VEVENT
DTSTART;TZID=America/New_York:20180411T180000
DTEND;TZID=America/New_York:20180411T210000
DTSTAMP:20260421T130148
CREATED:20180403T192925Z
LAST-MODIFIED:20180403T192925Z
UID:483-1523469600-1523480400@asmithson.com
SUMMARY:Hudson's on the Docks
DESCRIPTION:
URL:https://asmithson.com/event/hudsons-on-the-docks-2/
END:VEVENT
BEGIN:VEVENT
DTSTART;TZID=America/New_York:20180407T170000
DTEND;TZID=America/New_York:20180407T213000
DTSTAMP:20260421T130148
CREATED:20180322T132106Z
LAST-MODIFIED:20180322T132106Z
UID:474-1523120400-1523136600@asmithson.com
SUMMARY:San Miguel's
DESCRIPTION:
URL:https://asmithson.com/event/san-miguels/
LOCATION:Shelter Cove Marina
END:VEVENT
BEGIN:VEVENT
DTSTART;TZID=America/New_York:20180405T180000
DTEND;TZID=America/New_York:20180405T220000
DTSTAMP:20260421T130148
CREATED:20180322T131800Z
LAST-MODIFIED:20180322T131800Z
UID:472-1522951200-1522965600@asmithson.com
SUMMARY:Black Marlin Hurricane Bar
DESCRIPTION:
URL:https://asmithson.com/event/black-marlin-hurricane-bar/
LOCATION:Black Marlin
END:VEVENT
BEGIN:VEVENT
DTSTART;TZID=America/New_York:20180329T180000
DTEND;TZID=America/New_York:20180329T210000
DTSTAMP:20260421T130148
CREATED:20180327T161637Z
LAST-MODIFIED:20180327T161637Z
UID:480-1522346400-1522357200@asmithson.com
SUMMARY:Hudson's on the Docks
DESCRIPTION:
URL:https://asmithson.com/event/hudsons-on-the-docks/
END:VEVENT
END:VCALENDAR